BEGIN:VCALENDAR
VERSION:2.0
PRODID:-//Eunoia Clinic - ECPv6.1.3//NONSGML v1.0//EN
CALSCALE:GREGORIAN
METHOD:PUBLISH
X-ORIGINAL-URL:https://eunoiaclinic.com
X-WR-CALDESC:Events for Eunoia Clinic
REFRESH-INTERVAL;VALUE=DURATION:PT1H
X-Robots-Tag:noindex
X-PUBLISHED-TTL:PT1H
BEGIN:VTIMEZONE
TZID:Asia/Muscat
BEGIN:STANDARD
TZOFFSETFROM:+0400
TZOFFSETTO:+0400
TZNAME:+04
DTSTART:20220101T000000
END:STANDARD
END:VTIMEZONE
BEGIN:VEVENT
DTSTART;TZID=Asia/Muscat:20220628T163000
DTEND;TZID=Asia/Muscat:20220628T183000
DTSTAMP:20260421T193931
CREATED:20220522T061155Z
LAST-MODIFIED:20220522T061410Z
UID:6763-1656433800-1656441000@eunoiaclinic.com
SUMMARY:Fear-Less Triple P (Session 6)
DESCRIPTION:
URL:https://eunoiaclinic.com/event/fear-less-triple-p-session-6/
LOCATION:Online via Zoom
CATEGORIES:Parenting Program
END:VEVENT
BEGIN:VEVENT
DTSTART;TZID=Asia/Muscat:20220621T163000
DTEND;TZID=Asia/Muscat:20220621T183000
DTSTAMP:20260421T193931
CREATED:20220522T061109Z
LAST-MODIFIED:20220522T061109Z
UID:6761-1655829000-1655836200@eunoiaclinic.com
SUMMARY:Fear-Less Triple P (Session 5)
DESCRIPTION:
URL:https://eunoiaclinic.com/event/fear-less-triple-p-session-5/
LOCATION:Online via Zoom
CATEGORIES:Parenting Program
END:VEVENT
BEGIN:VEVENT
DTSTART;TZID=Asia/Muscat:20220614T163000
DTEND;TZID=Asia/Muscat:20220614T183000
DTSTAMP:20260421T193931
CREATED:20220522T060943Z
LAST-MODIFIED:20220522T060943Z
UID:6759-1655224200-1655231400@eunoiaclinic.com
SUMMARY:Fear-Less Triple P (Session 4)
DESCRIPTION:
URL:https://eunoiaclinic.com/event/fear-less-triple-p-session-4/
LOCATION:Online via Zoom
CATEGORIES:Parenting Program
END:VEVENT
BEGIN:VEVENT
DTSTART;TZID=Asia/Muscat:20220607T163000
DTEND;TZID=Asia/Muscat:20220607T183000
DTSTAMP:20260421T193931
CREATED:20220515T055341Z
LAST-MODIFIED:20220515T055548Z
UID:6751-1654619400-1654626600@eunoiaclinic.com
SUMMARY:Fear-Less Triple P (Session 3)
DESCRIPTION:
URL:https://eunoiaclinic.com/event/fear-less-triple-p-session-3/
LOCATION:Online via Zoom
CATEGORIES:Parenting Program
END:VEVENT
BEGIN:VEVENT
DTSTART;TZID=Asia/Muscat:20220531T163000
DTEND;TZID=Asia/Muscat:20220531T183000
DTSTAMP:20260421T193931
CREATED:20220515T055236Z
LAST-MODIFIED:20220522T061244Z
UID:6749-1654014600-1654021800@eunoiaclinic.com
SUMMARY:Fear-Less Triple P (Session 2)
DESCRIPTION:
URL:https://eunoiaclinic.com/event/fear-less-triple-p-session-2/
LOCATION:Online via Zoom
CATEGORIES:Parenting Program
END:VEVENT
BEGIN:VEVENT
DTSTART;TZID=Asia/Muscat:20220524T163000
DTEND;TZID=Asia/Muscat:20220524T183000
DTSTAMP:20260421T193931
CREATED:20220515T053935Z
LAST-MODIFIED:20220515T055606Z
UID:6741-1653409800-1653417000@eunoiaclinic.com
SUMMARY:Fear-Less Triple P (Session 1)
DESCRIPTION:Fear-Less Triple P is a 6-Weeks Evidence Based Parenting Program That Supports Parents’ and Help Them Learn: \n1. New behavioural strategies for anxiety management\n2. Applying learned strategies to them & their children \nWhat is covered? \n\nAnxiety – what is it and how does it develop?\nPromoting emotional resilience in children\nModeling and the way children think\nThe way you (parent/caregiver) behave – Feeding in the anxiety\nParental strategies for responding to children’s anxiety\nConstructive problem solving – how to maintain progress\n\nWho is it for? \nParents or caregivers of children aged 6 to 14 years who have mild\, moderate and high levels of anxiety that negatively impacts on everyday functioning.
URL:https://eunoiaclinic.com/event/fear-less-triple-p-session-1/
LOCATION:Online via Zoom
CATEGORIES:Parenting Program
END:VEVENT
END:VCALENDAR